BEGIN:VCALENDAR
VERSION:2.0
PRODID:-//ARES District 6 Headquarters - ECPv6.15.20//NONSGML v1.0//EN
CALSCALE:GREGORIAN
METHOD:PUBLISH
X-ORIGINAL-URL:https://www.aresrc.com
X-WR-CALDESC:Events for ARES District 6 Headquarters
REFRESH-INTERVAL;VALUE=DURATION:PT1H
X-Robots-Tag:noindex
X-PUBLISHED-TTL:PT1H
BEGIN:VTIMEZONE
TZID:America/New_York
BEGIN:DAYLIGHT
TZOFFSETFROM:-0500
TZOFFSETTO:-0400
TZNAME:EDT
DTSTART:20250309T070000
END:DAYLIGHT
BEGIN:STANDARD
TZOFFSETFROM:-0400
TZOFFSETTO:-0500
TZNAME:EST
DTSTART:20251102T060000
END:STANDARD
BEGIN:DAYLIGHT
TZOFFSETFROM:-0500
TZOFFSETTO:-0400
TZNAME:EDT
DTSTART:20260308T070000
END:DAYLIGHT
BEGIN:STANDARD
TZOFFSETFROM:-0400
TZOFFSETTO:-0500
TZNAME:EST
DTSTART:20261101T060000
END:STANDARD
BEGIN:DAYLIGHT
TZOFFSETFROM:-0500
TZOFFSETTO:-0400
TZNAME:EDT
DTSTART:20270314T070000
END:DAYLIGHT
BEGIN:STANDARD
TZOFFSETFROM:-0400
TZOFFSETTO:-0500
TZNAME:EST
DTSTART:20271107T060000
END:STANDARD
END:VTIMEZONE
BEGIN:VEVENT
DTSTART;TZID=America/New_York:20260501T150000
DTEND;TZID=America/New_York:20260501T163000
DTSTAMP:20260423T111940
CREATED:20251113T030505Z
LAST-MODIFIED:20251113T030505Z
UID:923-1777647600-1777653000@www.aresrc.com
SUMMARY:IARC Club meeting May 1\, 2026 IARC - 7:00 PM
DESCRIPTION:IARC Club meeting May 1\, 2026 IARC – 7:00 PM\nPizza Hut (In front of Walmart)\n365 N Lexington-Springmill Rd\, Mansfield\, OH 44906
URL:https://www.aresrc.com/event/iarc-club-meeting-may-1-2026-iarc-700-pm/
LOCATION:Pizza hut\, 365 N Lexington-Springmill Rd\, Mansfield\, OH\, 44906\, United States
CATEGORIES:IARC
END:VEVENT
BEGIN:VEVENT
DTSTART;TZID=America/New_York:20260509T080000
DTEND;TZID=America/New_York:20260509T130000
DTSTAMP:20260423T111940
CREATED:20251113T030758Z
LAST-MODIFIED:20251123T210039Z
UID:924-1778313600-1778331600@www.aresrc.com
SUMMARY:LAUREL V.E. FCC License Testing May 9\, 2026 12:15PM
DESCRIPTION:LAUREL V.E. FCC License Testing May 9\, 2026 12:15PM \nNO FEES to take your test! Pre-registration is not needed – Walk-ins are welcome. \nTo register: \n\nSend a message using this form https://tinyl.io/Bwfb\nOR\nsend a email to: dmeadows001@neo.rr.com \n\nThe VE test session will be held at Pizza Hut 365 N Lexington-Springmill Rd\, Mansfield\, OH 44906. In front of WalMart. \nDoors open at 12:30PM \nTesting starts promptly at 1:00PM\, please arrive early to fill out paperwork. FCC no longer will accept a Social Security Number\, only FRN number will be accepted. \nYou MUST Bring: \n\nYour FRN number: (see below)\nPhoto ID\nA copy of your current license / CSCE is required if upgrading\n\nYou CAN Bring: \n\nCalculators are allowed\, but the Memory must be Completely Wiped\, and Cleared.\n\n\nGetting an FCC Registration Number (FRN) in the Universal Licensing System (ULS) \nGo to the FCC Information HERE: https://www.fcc.gov/wireless/support/knowledge-base/universal-licensing-system-uls-resources/getting-fcc-registration
URL:https://www.aresrc.com/event/laurel-v-e-fcc-license-testing-may-2-2026-1215pm/
LOCATION:Pizza hut\, 365 N Lexington-Springmill Rd\, Mansfield\, OH\, 44906\, United States
CATEGORIES:VEC
END:VEVENT
BEGIN:VEVENT
DTSTART;TZID=America/New_York:20260516T140000
DTEND;TZID=America/New_York:20260516T163000
DTSTAMP:20260423T111940
CREATED:20251113T031025Z
LAST-MODIFIED:20251113T031025Z
UID:925-1778940000-1778949000@www.aresrc.com
SUMMARY:ARES Dinner & Workshop May 16\, 2026\, 6:00 PM
DESCRIPTION:ARES Dinner & Workshop May 16\, 2026\, 6:00 PM\nPizza Hut (In front of Walmart)\n365 N Lexington-Springmill Rd\, Mansfield\, OH 44906
URL:https://www.aresrc.com/event/ares-dinner-workshop-may-16-2026-600-pm/
LOCATION:Pizza hut\, 365 N Lexington-Springmill Rd\, Mansfield\, OH\, 44906\, United States
CATEGORIES:ARES
END:VEVENT
END:VCALENDAR