BEGIN:VCALENDAR
VERSION:2.0
PRODID:-//ARES District 6 Headquarters - ECPv6.15.20//NONSGML v1.0//EN
CALSCALE:GREGORIAN
METHOD:PUBLISH
X-ORIGINAL-URL:https://www.aresrc.com
X-WR-CALDESC:Events for ARES District 6 Headquarters
REFRESH-INTERVAL;VALUE=DURATION:PT1H
X-Robots-Tag:noindex
X-PUBLISHED-TTL:PT1H
BEGIN:VTIMEZONE
TZID:America/New_York
BEGIN:DAYLIGHT
TZOFFSETFROM:-0500
TZOFFSETTO:-0400
TZNAME:EDT
DTSTART:20250309T070000
END:DAYLIGHT
BEGIN:STANDARD
TZOFFSETFROM:-0400
TZOFFSETTO:-0500
TZNAME:EST
DTSTART:20251102T060000
END:STANDARD
BEGIN:DAYLIGHT
TZOFFSETFROM:-0500
TZOFFSETTO:-0400
TZNAME:EDT
DTSTART:20260308T070000
END:DAYLIGHT
BEGIN:STANDARD
TZOFFSETFROM:-0400
TZOFFSETTO:-0500
TZNAME:EST
DTSTART:20261101T060000
END:STANDARD
BEGIN:DAYLIGHT
TZOFFSETFROM:-0500
TZOFFSETTO:-0400
TZNAME:EDT
DTSTART:20270314T070000
END:DAYLIGHT
BEGIN:STANDARD
TZOFFSETFROM:-0400
TZOFFSETTO:-0500
TZNAME:EST
DTSTART:20271107T060000
END:STANDARD
END:VTIMEZONE
BEGIN:VEVENT
DTSTART;TZID=America/New_York:20260306T140000
DTEND;TZID=America/New_York:20260306T153000
DTSTAMP:20260423T111352
CREATED:20251113T023906Z
LAST-MODIFIED:20251113T023906Z
UID:918-1772805600-1772811000@www.aresrc.com
SUMMARY:IARC Club meeting March 6\, 2026 IARC - 7:00 PM
DESCRIPTION:IARC Club meeting March 6\, 2026 IARC – 7:00 PM\nPizza Hut (In front of Walmart)\n365 N Lexington-Springmill Rd\, Mansfield\, OH 44906
URL:https://www.aresrc.com/event/iarc-club-meeting-march-6-2026-iarc-700-pm/
LOCATION:Pizza hut\, 365 N Lexington-Springmill Rd\, Mansfield\, OH\, 44906\, United States
CATEGORIES:IARC
END:VEVENT
BEGIN:VEVENT
DTSTART;TZID=America/New_York:20260309T180000
DTEND;TZID=America/New_York:20260309T200000
DTSTAMP:20260423T111352
CREATED:20260123T191819Z
LAST-MODIFIED:20260123T191819Z
UID:1020-1773079200-1773086400@www.aresrc.com
SUMMARY:Holmes Co. NWS SkyWarn Class March 9\, 2026 6:00-8:00 PM
DESCRIPTION:Holmes Co. NWS SkyWarn Class March 9\, 2026 6:00-8:00 PM \nEast Holmes Fire Department\, 5257 County Road 77 \nMillersburg\, OH 44654
URL:https://www.aresrc.com/event/holmes-co-nws-skywarn-class-march-9-2026-600-800-pm/
LOCATION:East Holmes Fire Department\, 5257 County Road 77\, Millersburg\, OH\, 44654\, United States
CATEGORIES:NWS Cleveland
END:VEVENT
BEGIN:VEVENT
DTSTART;TZID=America/New_York:20260312T180000
DTEND;TZID=America/New_York:20260312T200000
DTSTAMP:20260423T111352
CREATED:20260107T191938Z
LAST-MODIFIED:20260123T192414Z
UID:998-1773338400-1773345600@www.aresrc.com
SUMMARY:Richland Co. NWS SkyWarn Class March 12\, 2026 6:00-8:00 PM
DESCRIPTION:Richland Co. NWS SkyWarn Class March 12\, 2026 6:00-8:00 PM \nClear Fork Alliance Church\, 1008 OH-97\, Bellville\, OH 44813\, USA\nBellville\, OH 44813
URL:https://www.aresrc.com/event/nws-skywarn-class-march-12th-2026-600-pm-bellview-ohio/
LOCATION:Clear Fork Alliance Church\, 1008 State Route 97 E\, Bellville\, OH\, 44813\, United States
CATEGORIES:NWS Cleveland
END:VEVENT
BEGIN:VEVENT
DTSTART;TZID=America/New_York:20260314T080000
DTEND;TZID=America/New_York:20260314T130000
DTSTAMP:20260423T111352
CREATED:20251113T024225Z
LAST-MODIFIED:20251123T205933Z
UID:919-1773475200-1773493200@www.aresrc.com
SUMMARY:LAUREL V.E. FCC License Testing March 14\, 2026 12:15PM
DESCRIPTION:LAUREL V.E. FCC License Testing March 14\, 2026 12:15PM \nNO FEES to take your test! Pre-registration is not needed – Walk-ins are welcome. \nTo register: \n\nSend a message using this form https://tinyl.io/Bwfb\nOR\nsend a email to: dmeadows001@neo.rr.com \n\nThe VE test session will be held at Pizza Hut 365 N Lexington-Springmill Rd\, Mansfield\, OH 44906. In front of WalMart. \nDoors open at 12:30PM \nTesting starts promptly at 1:00PM\, please arrive early to fill out paperwork. FCC no longer will accept a Social Security Number\, only FRN number will be accepted. \nYou MUST Bring: \n\nYour FRN number: (see below)\nPhoto ID\nA copy of your current license / CSCE is required if upgrading\n\nYou CAN Bring: \n\nCalculators are allowed\, but the Memory must be Completely Wiped\, and Cleared.\n\n\nGetting an FCC Registration Number (FRN) in the Universal Licensing System (ULS) \nGo to the FCC Information HERE: https://www.fcc.gov/wireless/support/knowledge-base/universal-licensing-system-uls-resources/getting-fcc-registration
URL:https://www.aresrc.com/event/laurel-v-e-fcc-license-testing-march-7-2026-1215pm/
LOCATION:Pizza hut\, 365 N Lexington-Springmill Rd\, Mansfield\, OH\, 44906\, United States
CATEGORIES:VEC
END:VEVENT
BEGIN:VEVENT
DTSTART;TZID=America/New_York:20260331T180000
DTEND;TZID=America/New_York:20260331T200000
DTSTAMP:20260423T111352
CREATED:20260123T194334Z
LAST-MODIFIED:20260123T194334Z
UID:1023-1774980000-1774987200@www.aresrc.com
SUMMARY:Wayne Co. NWS SkyWarn Class March 31\, 2026 6:00-8:00 PM
DESCRIPTION:Wayne Co. NWS SkyWarn Class March 31\, 2026 6:00-8:00 PM \nWayne county public library\, 220 W Liberty St\,  \nWooster\, OH 44691
URL:https://www.aresrc.com/event/wayne-co-nws-skywarn-class-march-31-2026-600-800-pm/
LOCATION:Wayne county public library\, 220 W Liberty St\, Wooster\, OH\, 44691\, United States
CATEGORIES:NWS Cleveland
END:VEVENT
END:VCALENDAR