BEGIN:VCALENDAR
VERSION:2.0
PRODID:-//ARES District 6 Headquarters - ECPv6.15.20//NONSGML v1.0//EN
CALSCALE:GREGORIAN
METHOD:PUBLISH
X-WR-CALNAME:ARES District 6 Headquarters
X-ORIGINAL-URL:https://www.aresrc.com
X-WR-CALDESC:Events for ARES District 6 Headquarters
REFRESH-INTERVAL;VALUE=DURATION:PT1H
X-Robots-Tag:noindex
X-PUBLISHED-TTL:PT1H
BEGIN:VTIMEZONE
TZID:America/New_York
BEGIN:DAYLIGHT
TZOFFSETFROM:-0500
TZOFFSETTO:-0400
TZNAME:EDT
DTSTART:20240310T070000
END:DAYLIGHT
BEGIN:STANDARD
TZOFFSETFROM:-0400
TZOFFSETTO:-0500
TZNAME:EST
DTSTART:20241103T060000
END:STANDARD
BEGIN:DAYLIGHT
TZOFFSETFROM:-0500
TZOFFSETTO:-0400
TZNAME:EDT
DTSTART:20250309T070000
END:DAYLIGHT
BEGIN:STANDARD
TZOFFSETFROM:-0400
TZOFFSETTO:-0500
TZNAME:EST
DTSTART:20251102T060000
END:STANDARD
BEGIN:DAYLIGHT
TZOFFSETFROM:-0500
TZOFFSETTO:-0400
TZNAME:EDT
DTSTART:20260308T070000
END:DAYLIGHT
BEGIN:STANDARD
TZOFFSETFROM:-0400
TZOFFSETTO:-0500
TZNAME:EST
DTSTART:20261101T060000
END:STANDARD
BEGIN:DAYLIGHT
TZOFFSETFROM:-0500
TZOFFSETTO:-0400
TZNAME:EDT
DTSTART:20270314T070000
END:DAYLIGHT
BEGIN:STANDARD
TZOFFSETFROM:-0400
TZOFFSETTO:-0500
TZNAME:EST
DTSTART:20271107T060000
END:STANDARD
END:VTIMEZONE
BEGIN:VEVENT
DTSTART;TZID=America/New_York:20260414T180000
DTEND;TZID=America/New_York:20260414T200000
DTSTAMP:20260425T081605
CREATED:20260123T195706Z
LAST-MODIFIED:20260123T195706Z
UID:1025-1776189600-1776196800@www.aresrc.com
SUMMARY:Ashland Co. NWS SkyWarn Class April 14\, 2026 6:00-8:00 PM
DESCRIPTION:Ashland Co. NWS SkyWarn Class April 14\, 2026 6:00-8:00 PM \nAshland EMA\, 110 Cottage St. 2nd Floor \nAshland\, OH 44805
URL:https://www.aresrc.com/event/ashland-co-nws-skywarn-class-april-14-2026-600-800-pm/
LOCATION:Ashland County EMA\, 110 Cottage St\, Ashland\, OH\, 44805\, United States
CATEGORIES:NWS Cleveland
END:VEVENT
BEGIN:VEVENT
DTSTART;TZID=America/New_York:20260403T150000
DTEND;TZID=America/New_York:20260403T163000
DTSTAMP:20260425T081605
CREATED:20251113T024951Z
LAST-MODIFIED:20251113T024951Z
UID:921-1775228400-1775233800@www.aresrc.com
SUMMARY:IARC Club meeting April 3\, 2026 IARC - 7:00 PM
DESCRIPTION:IARC Club meeting April 3\, 2026 IARC – 7:00 PM\nPizza Hut (In front of Walmart)\n365 N Lexington-Springmill Rd\, Mansfield\, OH 44906
URL:https://www.aresrc.com/event/iarc-club-meeting-april-3-2026-iarc-700-pm/
LOCATION:Pizza hut\, 365 N Lexington-Springmill Rd\, Mansfield\, OH\, 44906\, United States
CATEGORIES:VEC
END:VEVENT
BEGIN:VEVENT
DTSTART;TZID=America/New_York:20260331T180000
DTEND;TZID=America/New_York:20260331T200000
DTSTAMP:20260425T081605
CREATED:20260123T194334Z
LAST-MODIFIED:20260123T194334Z
UID:1023-1774980000-1774987200@www.aresrc.com
SUMMARY:Wayne Co. NWS SkyWarn Class March 31\, 2026 6:00-8:00 PM
DESCRIPTION:Wayne Co. NWS SkyWarn Class March 31\, 2026 6:00-8:00 PM \nWayne county public library\, 220 W Liberty St\,  \nWooster\, OH 44691
URL:https://www.aresrc.com/event/wayne-co-nws-skywarn-class-march-31-2026-600-800-pm/
LOCATION:Wayne county public library\, 220 W Liberty St\, Wooster\, OH\, 44691\, United States
CATEGORIES:NWS Cleveland
END:VEVENT
BEGIN:VEVENT
DTSTART;TZID=America/New_York:20260314T080000
DTEND;TZID=America/New_York:20260314T130000
DTSTAMP:20260425T081605
CREATED:20251113T024225Z
LAST-MODIFIED:20251123T205933Z
UID:919-1773475200-1773493200@www.aresrc.com
SUMMARY:LAUREL V.E. FCC License Testing March 14\, 2026 12:15PM
DESCRIPTION:LAUREL V.E. FCC License Testing March 14\, 2026 12:15PM \nNO FEES to take your test! Pre-registration is not needed – Walk-ins are welcome. \nTo register: \n\nSend a message using this form https://tinyl.io/Bwfb\nOR\nsend a email to: dmeadows001@neo.rr.com \n\nThe VE test session will be held at Pizza Hut 365 N Lexington-Springmill Rd\, Mansfield\, OH 44906. In front of WalMart. \nDoors open at 12:30PM \nTesting starts promptly at 1:00PM\, please arrive early to fill out paperwork. FCC no longer will accept a Social Security Number\, only FRN number will be accepted. \nYou MUST Bring: \n\nYour FRN number: (see below)\nPhoto ID\nA copy of your current license / CSCE is required if upgrading\n\nYou CAN Bring: \n\nCalculators are allowed\, but the Memory must be Completely Wiped\, and Cleared.\n\n\nGetting an FCC Registration Number (FRN) in the Universal Licensing System (ULS) \nGo to the FCC Information HERE: https://www.fcc.gov/wireless/support/knowledge-base/universal-licensing-system-uls-resources/getting-fcc-registration
URL:https://www.aresrc.com/event/laurel-v-e-fcc-license-testing-march-7-2026-1215pm/
LOCATION:Pizza hut\, 365 N Lexington-Springmill Rd\, Mansfield\, OH\, 44906\, United States
CATEGORIES:VEC
END:VEVENT
BEGIN:VEVENT
DTSTART;TZID=America/New_York:20260312T180000
DTEND;TZID=America/New_York:20260312T200000
DTSTAMP:20260425T081605
CREATED:20260107T191938Z
LAST-MODIFIED:20260123T192414Z
UID:998-1773338400-1773345600@www.aresrc.com
SUMMARY:Richland Co. NWS SkyWarn Class March 12\, 2026 6:00-8:00 PM
DESCRIPTION:Richland Co. NWS SkyWarn Class March 12\, 2026 6:00-8:00 PM \nClear Fork Alliance Church\, 1008 OH-97\, Bellville\, OH 44813\, USA\nBellville\, OH 44813
URL:https://www.aresrc.com/event/nws-skywarn-class-march-12th-2026-600-pm-bellview-ohio/
LOCATION:Clear Fork Alliance Church\, 1008 State Route 97 E\, Bellville\, OH\, 44813\, United States
CATEGORIES:NWS Cleveland
END:VEVENT
BEGIN:VEVENT
DTSTART;TZID=America/New_York:20260309T180000
DTEND;TZID=America/New_York:20260309T200000
DTSTAMP:20260425T081605
CREATED:20260123T191819Z
LAST-MODIFIED:20260123T191819Z
UID:1020-1773079200-1773086400@www.aresrc.com
SUMMARY:Holmes Co. NWS SkyWarn Class March 9\, 2026 6:00-8:00 PM
DESCRIPTION:Holmes Co. NWS SkyWarn Class March 9\, 2026 6:00-8:00 PM \nEast Holmes Fire Department\, 5257 County Road 77 \nMillersburg\, OH 44654
URL:https://www.aresrc.com/event/holmes-co-nws-skywarn-class-march-9-2026-600-800-pm/
LOCATION:East Holmes Fire Department\, 5257 County Road 77\, Millersburg\, OH\, 44654\, United States
CATEGORIES:NWS Cleveland
END:VEVENT
BEGIN:VEVENT
DTSTART;TZID=America/New_York:20260306T140000
DTEND;TZID=America/New_York:20260306T153000
DTSTAMP:20260425T081605
CREATED:20251113T023906Z
LAST-MODIFIED:20251113T023906Z
UID:918-1772805600-1772811000@www.aresrc.com
SUMMARY:IARC Club meeting March 6\, 2026 IARC - 7:00 PM
DESCRIPTION:IARC Club meeting March 6\, 2026 IARC – 7:00 PM\nPizza Hut (In front of Walmart)\n365 N Lexington-Springmill Rd\, Mansfield\, OH 44906
URL:https://www.aresrc.com/event/iarc-club-meeting-march-6-2026-iarc-700-pm/
LOCATION:Pizza hut\, 365 N Lexington-Springmill Rd\, Mansfield\, OH\, 44906\, United States
CATEGORIES:IARC
END:VEVENT
BEGIN:VEVENT
DTSTART;TZID=America/New_York:20260221T130000
DTEND;TZID=America/New_York:20260221T153000
DTSTAMP:20260425T081605
CREATED:20251113T021056Z
LAST-MODIFIED:20251113T021056Z
UID:917-1771678800-1771687800@www.aresrc.com
SUMMARY:ARES Dinner & Workshop February 21\, 2026\, 6:00 PM
DESCRIPTION:ARES Dinner & Workshop February 21\, 2026\, 6:00 PM\nPizza Hut (In front of Walmart)\n365 N Lexington-Springmill Rd\, Mansfield\, OH 44906
URL:https://www.aresrc.com/event/ares-dinner-workshop-february-21-2026-600-pm/
LOCATION:Pizza hut\, 365 N Lexington-Springmill Rd\, Mansfield\, OH\, 44906\, United States
CATEGORIES:ARES
END:VEVENT
BEGIN:VEVENT
DTSTART;TZID=America/New_York:20260219T170000
DTEND;TZID=America/New_York:20260219T190000
DTSTAMP:20260425T081605
CREATED:20260107T200429Z
LAST-MODIFIED:20260123T183414Z
UID:1000-1771520400-1771527600@www.aresrc.com
SUMMARY:Crawford Co. NWS SkyWarn Class February 19\, 2026 5:00 PM Bucyrus\, OH
DESCRIPTION:Crawford Co. NWS SkyWarn Class February 19\, 2026 5:00 PM Bucyrus\, OH \nBucyrus Public Library \n200 E Mansfield St\, Bucyrus\, OH 44820
URL:https://www.aresrc.com/event/nws-skywarn-class-february-13-2026-500-pm-bucyrus-oh/
LOCATION:Bucyrus Public Library\, 200 E Mansfield St\, Bucyrus\, OH\, 44820\, United States
CATEGORIES:NWS Cleveland
END:VEVENT
BEGIN:VEVENT
DTSTART;TZID=America/New_York:20260206T140000
DTEND;TZID=America/New_York:20260206T153000
DTSTAMP:20260425T081605
CREATED:20251113T020632Z
LAST-MODIFIED:20251113T020632Z
UID:916-1770386400-1770391800@www.aresrc.com
SUMMARY:IARC Club meeting February 6\, 2026 - 7:00 PM
DESCRIPTION:IARC Club meeting February 6\, 2026 – 7:00 PM\nPizza Hut (In front of Walmart)\n365 N Lexington-Springmill Rd\, Mansfield\, OH 44906
URL:https://www.aresrc.com/event/iarc-club-meeting-february-6-2026-700-pm/
LOCATION:Pizza hut\, 365 N Lexington-Springmill Rd\, Mansfield\, OH\, 44906\, United States
CATEGORIES:IARC
END:VEVENT
BEGIN:VEVENT
DTSTART;TZID=America/New_York:20260110T070000
DTEND;TZID=America/New_York:20260110T120000
DTSTAMP:20260425T081605
CREATED:20251113T015407Z
LAST-MODIFIED:20260107T185418Z
UID:913-1768028400-1768046400@www.aresrc.com
SUMMARY:LAUREL V.E. FCC License Testing January 10\, 2026 12:30PM
DESCRIPTION:LAUREL V.E. FCC License Testing January 10\, 2026 12:15PM \nNO FEES to take your test! Pre-registration is not needed – Walk-ins are welcome. \nTo register: \n\nSend a message using this form https://tinyl.io/Bwfb\nOR\nsend a email to: dmeadows001@neo.rr.com \n\nThe VE test session will be held at Pizza Hut 365 N Lexington-Springmill Rd\, Mansfield\, OH 44906. In front of WalMart. \nDoors open at 12:30PM \nTesting starts promptly at 1:00PM\, please arrive early to fill out paperwork. FCC no longer will accept a Social Security Number\, only FRN number will be accepted. \nYou MUST Bring: \n\nYour FRN number: (see below)\nPhoto ID\nA copy of your current license / CSCE is required if upgrading\n\nYou CAN Bring: \n\nCalculators are allowed\, but the Memory must be Completely Wiped\, and Cleared.\n\n\nGetting an FCC Registration Number (FRN) in the Universal Licensing System (ULS) \nGo to the FCC Information HERE: https://www.fcc.gov/wireless/support/knowledge-base/universal-licensing-system-uls-resources/getting-fcc-registration
URL:https://www.aresrc.com/event/laurel-v-e-fcc-license-testing-january-3-2026-1215pm/
LOCATION:Pizza hut\, 365 N Lexington-Springmill Rd\, Mansfield\, OH\, 44906\, United States
CATEGORIES:VEC
END:VEVENT
BEGIN:VEVENT
DTSTART;TZID=America/New_York:20260102T140000
DTEND;TZID=America/New_York:20260102T160000
DTSTAMP:20260425T081605
CREATED:20251113T000633Z
LAST-MODIFIED:20251113T000633Z
UID:908-1767362400-1767369600@www.aresrc.com
SUMMARY:January 2\, 2026 IARC meeting 7:00 PM
DESCRIPTION:IARC Club meeting January 2nd\, 2026 – 7:00 PM\nPizza Hut (In front of Walmart)\n365 N Lexington-Springmill Rd\, Mansfield\, OH 44906
URL:https://www.aresrc.com/event/january-2-2026-iarc-meeting-700-pm/
LOCATION:Pizza hut\, 365 N Lexington-Springmill Rd\, Mansfield\, OH\, 44906\, United States
CATEGORIES:IARC
END:VEVENT
BEGIN:VEVENT
DTSTART;TZID=America/New_York:20251220T130000
DTEND;TZID=America/New_York:20251220T153000
DTSTAMP:20260425T081605
CREATED:20251107T050540Z
LAST-MODIFIED:20251107T050540Z
UID:894-1766235600-1766244600@www.aresrc.com
SUMMARY:Monthly ARES Dinner & Workshop December 20\, 2025 7:00 PM
DESCRIPTION:Monthly ARES Dinner & Workshop\nPizza Hut (In front of Walmart)\n365 N Lexington-Springmill Rd\, Mansfield\, OH 44906
URL:https://www.aresrc.com/event/monthly-ares-dinner-workshop-december-20-2025-700-pm/
LOCATION:Pizza hut\, 365 N Lexington-Springmill Rd\, Mansfield\, OH\, 44906\, United States
CATEGORIES:ARES
ORGANIZER;CN="ARES District 6":MAILTO:ohrvcamper@gmail.com
END:VEVENT
BEGIN:VEVENT
DTSTART;TZID=America/New_York:20251205T140000
DTEND;TZID=America/New_York:20251205T153000
DTSTAMP:20260425T081605
CREATED:20251107T051702Z
LAST-MODIFIED:20251107T051702Z
UID:895-1764943200-1764948600@www.aresrc.com
SUMMARY:IARC Club meeting December 5th\, at 7:00 PM
DESCRIPTION:IARC Club meeting\nDecember 5th\, at 7:00 PM\n365 N Lexington-Springmill Rd\, Mansfield\, OH 44906
URL:https://www.aresrc.com/event/iarc-club-meeting-december-5th-at-700-pm/
LOCATION:Pizza hut\, 365 N Lexington-Springmill Rd\, Mansfield\, OH\, 44906\, United States
CATEGORIES:IARC
END:VEVENT
BEGIN:VEVENT
DTSTART;TZID=America/New_York:20251124T130000
DTEND;TZID=America/New_York:20251124T150000
DTSTAMP:20260425T081605
CREATED:20251113T064427Z
LAST-MODIFIED:20251113T064427Z
UID:939-1763989200-1763996400@www.aresrc.com
SUMMARY:Winter SkyWarn Virtual classes 11-24-2025 6:00 PM
DESCRIPTION:
URL:https://www.aresrc.com/event/winter-skywarn-virtual-classes-11-24-2025-600-pm/
LOCATION:HF\, VHF\, UHF\, DMR
CATEGORIES:HF, VHF, UHF, DMR
END:VEVENT
BEGIN:VEVENT
DTSTART;TZID=America/New_York:20251122T130000
DTEND;TZID=America/New_York:20251122T160000
DTSTAMP:20260425T081605
CREATED:20251030T100205Z
LAST-MODIFIED:20251116T015227Z
UID:80-1763816400-1763827200@www.aresrc.com
SUMMARY:ARES Dinner & Workshop November 22nd 2025\, 6:00 PM
DESCRIPTION:ARES Dinner & Workshop November 22nd 2025\, 6:00 PM\nPizza Hut (In front of Walmart)\n365 N Lexington-Springmill Rd\, Mansfield\, OH 44906
URL:https://www.aresrc.com/event/ares-dinner-workshop-november-15th-2025-600-pm/
LOCATION:Pizza hut\, 365 N Lexington-Springmill Rd\, Mansfield\, OH\, 44906\, United States
CATEGORIES:ARES
ORGANIZER;CN="ARES District 6":MAILTO:ohrvcamper@gmail.com
END:VEVENT
BEGIN:VEVENT
DTSTART;TZID=America/New_York:20251117T130000
DTEND;TZID=America/New_York:20251117T150000
DTSTAMP:20260425T081605
CREATED:20251113T064254Z
LAST-MODIFIED:20251113T064254Z
UID:938-1763384400-1763391600@www.aresrc.com
SUMMARY:Winter SkyWarn Virtual classes 11-17-2025 6:00 PM
DESCRIPTION:Winter SkyWarn Virtual classes – about 2 hours
URL:https://www.aresrc.com/event/winter-skywarn-virtual-classes-11-17-2025-600-pm/
LOCATION:HF\, VHF\, UHF\, DMR
CATEGORIES:HF, VHF, UHF, DMR
END:VEVENT
BEGIN:VEVENT
DTSTART;TZID=America/New_York:20251108T073000
DTEND;TZID=America/New_York:20251108T103000
DTSTAMP:20260425T081605
CREATED:20251030T100618Z
LAST-MODIFIED:20251113T012244Z
UID:82-1762587000-1762597800@www.aresrc.com
SUMMARY:LAUREL V.E. FCC License Testing November 8th\, 2025 12:30PM
DESCRIPTION:LAUREL V.E. FCC License Testing November 8th\, 2025 12:30PM \nNO FEES to take your test! Pre-registration is not needed – Walk-ins are welcome. \nTo register: \n\nSend a message using this form https://tinyl.io/Bwfb\nOR\nsend a email to: dmeadows001@neo.rr.com\n\nThe VE test session will be held at Pizza Hut 365 N Lexington-Springmill Rd\, Mansfield\, OH 44906. In front of WalMart. \nDoors open at 12:30PM \nTesting starts promptly at 1:00PM\, please arrive early to fill out paperwork. FCC no longer will accept a Social Security Number\, only FRN number will be accepted. \nYou MUST Bring: \n\nYour FRN number: (see below)\nPhoto ID\nA copy of your current license / CSCE is required if upgrading\n\nYou CAN Bring: \n\nCalculators are allowed\, but the Memory must be Completely Wiped\, and Cleared.\n\n\nGetting an FCC Registration Number (FRN) in the Universal Licensing System (ULS) \nGo to the FCC Information HERE: https://www.fcc.gov/wireless/support/knowledge-base/universal-licensing-system-uls-resources/getting-fcc-registration
URL:https://www.aresrc.com/event/laurel-v-e-fcc-license-testing-november-8th-2025-1230pm/
LOCATION:Pizza hut\, 365 N Lexington-Springmill Rd\, Mansfield\, OH\, 44906\, United States
CATEGORIES:VEC
END:VEVENT
BEGIN:VEVENT
DTSTART;TZID=America/New_York:20251107T140000
DTEND;TZID=America/New_York:20251107T163000
DTSTAMP:20260425T081605
CREATED:20251030T093252Z
LAST-MODIFIED:20251113T001250Z
UID:49-1762524000-1762533000@www.aresrc.com
SUMMARY:IARC Club meeting November 7th\, 2025 - 7:00 PM
DESCRIPTION:IARC Club meeting November 7th\, 2025 – 7:00 PM\nPizza Hut (In front of Walmart)\n365 N Lexington-Springmill Rd\, Mansfield\, OH 44906
URL:https://www.aresrc.com/event/iarc-club-meeting-november-7th-2025-700-pm/
LOCATION:Pizza hut\, 365 N Lexington-Springmill Rd\, Mansfield\, OH\, 44906\, United States
CATEGORIES:IARC
END:VEVENT
END:VCALENDAR