BEGIN:VCALENDAR
VERSION:2.0
PRODID:-//ARES District 6 Headquarters - ECPv6.15.20//NONSGML v1.0//EN
CALSCALE:GREGORIAN
METHOD:PUBLISH
X-WR-CALNAME:ARES District 6 Headquarters
X-ORIGINAL-URL:https://www.aresrc.com
X-WR-CALDESC:Events for ARES District 6 Headquarters
REFRESH-INTERVAL;VALUE=DURATION:PT1H
X-Robots-Tag:noindex
X-PUBLISHED-TTL:PT1H
BEGIN:VTIMEZONE
TZID:America/New_York
BEGIN:DAYLIGHT
TZOFFSETFROM:-0500
TZOFFSETTO:-0400
TZNAME:EDT
DTSTART:20250309T070000
END:DAYLIGHT
BEGIN:STANDARD
TZOFFSETFROM:-0400
TZOFFSETTO:-0500
TZNAME:EST
DTSTART:20251102T060000
END:STANDARD
BEGIN:DAYLIGHT
TZOFFSETFROM:-0500
TZOFFSETTO:-0400
TZNAME:EDT
DTSTART:20260308T070000
END:DAYLIGHT
BEGIN:STANDARD
TZOFFSETFROM:-0400
TZOFFSETTO:-0500
TZNAME:EST
DTSTART:20261101T060000
END:STANDARD
BEGIN:DAYLIGHT
TZOFFSETFROM:-0500
TZOFFSETTO:-0400
TZNAME:EDT
DTSTART:20270314T070000
END:DAYLIGHT
BEGIN:STANDARD
TZOFFSETFROM:-0400
TZOFFSETTO:-0500
TZNAME:EST
DTSTART:20271107T060000
END:STANDARD
END:VTIMEZONE
BEGIN:VEVENT
DTSTART;TZID=America/New_York:20260501T150000
DTEND;TZID=America/New_York:20260501T163000
DTSTAMP:20260423T111806
CREATED:20251113T030505Z
LAST-MODIFIED:20251113T030505Z
UID:923-1777647600-1777653000@www.aresrc.com
SUMMARY:IARC Club meeting May 1\, 2026 IARC - 7:00 PM
DESCRIPTION:IARC Club meeting May 1\, 2026 IARC – 7:00 PM\nPizza Hut (In front of Walmart)\n365 N Lexington-Springmill Rd\, Mansfield\, OH 44906
URL:https://www.aresrc.com/event/iarc-club-meeting-may-1-2026-iarc-700-pm/
LOCATION:Pizza hut\, 365 N Lexington-Springmill Rd\, Mansfield\, OH\, 44906\, United States
CATEGORIES:IARC
END:VEVENT
END:VCALENDAR