BEGIN:VCALENDAR
VERSION:2.0
PRODID:-//ARES District 6 Headquarters - ECPv6.15.20//NONSGML v1.0//EN
CALSCALE:GREGORIAN
METHOD:PUBLISH
X-ORIGINAL-URL:https://www.aresrc.com
X-WR-CALDESC:Events for ARES District 6 Headquarters
REFRESH-INTERVAL;VALUE=DURATION:PT1H
X-Robots-Tag:noindex
X-PUBLISHED-TTL:PT1H
BEGIN:VTIMEZONE
TZID:America/New_York
BEGIN:DAYLIGHT
TZOFFSETFROM:-0500
TZOFFSETTO:-0400
TZNAME:EDT
DTSTART:20250309T070000
END:DAYLIGHT
BEGIN:STANDARD
TZOFFSETFROM:-0400
TZOFFSETTO:-0500
TZNAME:EST
DTSTART:20251102T060000
END:STANDARD
BEGIN:DAYLIGHT
TZOFFSETFROM:-0500
TZOFFSETTO:-0400
TZNAME:EDT
DTSTART:20260308T070000
END:DAYLIGHT
BEGIN:STANDARD
TZOFFSETFROM:-0400
TZOFFSETTO:-0500
TZNAME:EST
DTSTART:20261101T060000
END:STANDARD
BEGIN:DAYLIGHT
TZOFFSETFROM:-0500
TZOFFSETTO:-0400
TZNAME:EDT
DTSTART:20270314T070000
END:DAYLIGHT
BEGIN:STANDARD
TZOFFSETFROM:-0400
TZOFFSETTO:-0500
TZNAME:EST
DTSTART:20271107T060000
END:STANDARD
END:VTIMEZONE
BEGIN:VEVENT
DTSTART;TZID=America/New_York:20260414T180000
DTEND;TZID=America/New_York:20260414T200000
DTSTAMP:20260423T113034
CREATED:20260123T195706Z
LAST-MODIFIED:20260123T195706Z
UID:1025-1776189600-1776196800@www.aresrc.com
SUMMARY:Ashland Co. NWS SkyWarn Class April 14\, 2026 6:00-8:00 PM
DESCRIPTION:Ashland Co. NWS SkyWarn Class April 14\, 2026 6:00-8:00 PM \nAshland EMA\, 110 Cottage St. 2nd Floor \nAshland\, OH 44805
URL:https://www.aresrc.com/event/ashland-co-nws-skywarn-class-april-14-2026-600-800-pm/
LOCATION:Ashland County EMA\, 110 Cottage St\, Ashland\, OH\, 44805\, United States
CATEGORIES:NWS Cleveland
END:VEVENT
END:VCALENDAR